BEGIN:VCALENDAR
VERSION:2.0
PRODID:-//Eagle Point &amp; the Upper Rogue Chamber of Commerce - ECPv6.15.20//NONSGML v1.0//EN
CALSCALE:GREGORIAN
METHOD:PUBLISH
X-ORIGINAL-URL:https://eaglepointchamber.org
X-WR-CALDESC:Events for Eagle Point &amp; the Upper Rogue Chamber of Commerce
REFRESH-INTERVAL;VALUE=DURATION:PT1H
X-Robots-Tag:noindex
X-PUBLISHED-TTL:PT1H
BEGIN:VTIMEZONE
TZID:America/Los_Angeles
BEGIN:DAYLIGHT
TZOFFSETFROM:-0800
TZOFFSETTO:-0700
TZNAME:PDT
DTSTART:20250309T100000
END:DAYLIGHT
BEGIN:STANDARD
TZOFFSETFROM:-0700
TZOFFSETTO:-0800
TZNAME:PST
DTSTART:20251102T090000
END:STANDARD
BEGIN:DAYLIGHT
TZOFFSETFROM:-0800
TZOFFSETTO:-0700
TZNAME:PDT
DTSTART:20260308T100000
END:DAYLIGHT
BEGIN:STANDARD
TZOFFSETFROM:-0700
TZOFFSETTO:-0800
TZNAME:PST
DTSTART:20261101T090000
END:STANDARD
BEGIN:DAYLIGHT
TZOFFSETFROM:-0800
TZOFFSETTO:-0700
TZNAME:PDT
DTSTART:20270314T100000
END:DAYLIGHT
BEGIN:STANDARD
TZOFFSETFROM:-0700
TZOFFSETTO:-0800
TZNAME:PST
DTSTART:20271107T090000
END:STANDARD
END:VTIMEZONE
BEGIN:VEVENT
DTSTART;TZID=America/Los_Angeles:20260503T120000
DTEND;TZID=America/Los_Angeles:20260503T180000
DTSTAMP:20260421T235913
CREATED:20260116T193202Z
LAST-MODIFIED:20260116T193202Z
UID:10007222-1777809600-1777831200@eaglepointchamber.org
SUMMARY:Jacksonville Wine Cruise
DESCRIPTION:Recently highlighted by Forbes as “the charming\, wine-soaked cousin of the big cities\,” join the Jacksonville Wine Cruise on Sunday\, May 3rd\, and enjoy a day exploring the Rogue Valley’s beautiful wine country! \nCruise tickets ($69) include a commemorative glass\, 2 wine samples\, and a paired appetizer at each of the seven wineries. \nTransportation: Shuttles run every 20 minutes between participating wineries from 12:20 PM – 6:00 PM. \nAges: 21 and over only. \nFor questions about your order\, please get in touch with the winery you have chosen as your starting point. \nParticipating wineries include:\n– Daisy Creek\n– DANCIN\n– Dos Mariposas\n– Hummingbird Estate\n– Rellik\n– Remotion\n– South Stage Cellars
URL:https://eaglepointchamber.org/event/jacksonville-wine-cruise/
LOCATION:Jacksonville wineries\, Jacksonville\, OR\, OR\, 97530\, United States
CATEGORIES:Festivals & Fairs
ATTACH;FMTTYPE=image/jpeg:https://eaglepointchamber.org/wp-content/uploads/2026/01/WineCruise2026Letter-scaled-1.jpg
ORGANIZER;CN="Jacksonville Wine":MAILTO:wine@hummingbirdestate.com
END:VEVENT
BEGIN:VEVENT
DTSTART;TZID=America/Los_Angeles:20260516T090000
DTEND;TZID=America/Los_Angeles:20260517T160000
DTSTAMP:20260421T235913
CREATED:20260416T011933Z
LAST-MODIFIED:20260416T011933Z
UID:10007264-1778922000-1779033600@eaglepointchamber.org
SUMMARY:17th Annual Wood House Farm Festival
DESCRIPTION:Join Us for the 17th Annual Wood House Farm Festival!\nWhen: Sat\, May 16th (9 AM – 5 PM) & Sun\, May 17th (9 AM – 4 PM)\nWhere: The Wood House – 12988 Hwy 62\, Eagle Point \nCome experience a delightful weekend full of fun\, history\, and community! Explore a variety of unique vendors offering jewelry\, crafts\, woodworking\, etc. Plus\, take a step back in time with a special tour of the historic Wood House\, showcasing life in the 1800s. \nSavor Delicious BBQ!\nEnjoy mouthwatering eats from Savee’s BBQ truck\, featuring tri-tip\, brisket\, hamburgers\, hot dogs\, and more! \nAdmission \n\n$2 for adults\nFree for kids 12 & under\nFree parking available\n\nSupport Preservation!\nYour donations help preserve this historic treasure for future generations. Plus\, all proceeds go directly to conserving the Wood House. \nCalling All Vendors!\nWe’re looking for more unique vendors to join us! \n\nOnly $20 per space\nNew vendors\, must fill out an application prior to the event. Contact us at jyd@ccountry.net for an application.\n\nVisit us at oldwoodhouse.org for more information.
URL:https://eaglepointchamber.org/event/17th-annual-wood-house-farm-festival/
LOCATION:Wood House\, 12988 Hwy 62\, Eagle Point\, 97524
CATEGORIES:Craft-Event,Family-Fun,Festivals & Fairs,Kids & Family,Vendor Fair
ATTACH;FMTTYPE=image/jpeg:https://eaglepointchamber.org/wp-content/uploads/2026/04/Wood-House-12.jpg
ORGANIZER;CN="Woodhouse Preservation Group":MAILTO:jyd@ccountry.net
END:VEVENT
BEGIN:VEVENT
DTSTART;TZID=America/Los_Angeles:20260517T100000
DTEND;TZID=America/Los_Angeles:20260518T170000
DTSTAMP:20260421T235913
CREATED:20260416T012004Z
LAST-MODIFIED:20260416T012004Z
UID:10007263-1779012000-1779123600@eaglepointchamber.org
SUMMARY:Rogue Comic Con
DESCRIPTION:Southern Oregon’s FREE pop culture & comic convention features celebrity appearances\, vendors and artists\, a kid’s zone\, performances\, workshops and food trucks. We are dedicated to fostering lifelong learning and connecting people through pop culture.
URL:https://eaglepointchamber.org/event/rogue-comic-con/
LOCATION:Pear Blossom Park\,204 N Bartlett St\, Medford\, OR 97501\, USA
CATEGORIES:Festivals & Fairs
ORGANIZER;CN="Lanessa Moon-Pierce":MAILTO:southeroregoncomiccon@gmail.com
END:VEVENT
END:VCALENDAR